BEGIN:VCALENDAR
VERSION:2.0
PRODID:-//Blekinge släktforskarförening - ECPv6.11.2.1//NONSGML v1.0//EN
CALSCALE:GREGORIAN
METHOD:PUBLISH
X-WR-CALNAME:Blekinge släktforskarförening
X-ORIGINAL-URL:https://www.blekingesf.se
X-WR-CALDESC:Events for Blekinge släktforskarförening
REFRESH-INTERVAL;VALUE=DURATION:PT1H
X-Robots-Tag:noindex
X-PUBLISHED-TTL:PT1H
BEGIN:VTIMEZONE
TZID:Europe/Helsinki
BEGIN:DAYLIGHT
TZOFFSETFROM:+0200
TZOFFSETTO:+0300
TZNAME:EEST
DTSTART:20260329T010000
END:DAYLIGHT
BEGIN:STANDARD
TZOFFSETFROM:+0300
TZOFFSETTO:+0200
TZNAME:EET
DTSTART:20261025T010000
END:STANDARD
END:VTIMEZONE
BEGIN:VEVENT
DTSTART;TZID=Europe/Helsinki:20260521T170000
DTEND;TZID=Europe/Helsinki:20260521T193000
DTSTAMP:20260423T093418
CREATED:20260112T073620Z
LAST-MODIFIED:20260112T073620Z
UID:4781-1779382800-1779391800@www.blekingesf.se
SUMMARY:Släktforskarcafe i Bräkne-Hoby
DESCRIPTION:Välkomna till Blekingearkivet i Bräkne-Hoby. \nRepresentanter från Blekinge släktforskarförening finns på plats. \nTema: ännu inte fastställt. \nFika till självkostnadspris. \n  \n 
URL:https://www.blekingesf.se/event/slaktforskarcafe-i-brakne-hoby-31/
LOCATION:Blekingearkivet\, Ronnebyvägen 4\, Bräkne-Hoby\, 37260
END:VEVENT
BEGIN:VEVENT
DTSTART;TZID=Europe/Helsinki:20260525T163000
DTEND;TZID=Europe/Helsinki:20260525T183000
DTSTAMP:20260423T093418
CREATED:20260112T073114Z
LAST-MODIFIED:20260112T075029Z
UID:4771-1779726600-1779733800@www.blekingesf.se
SUMMARY:Släktforskarvärdar på stadsbiblioteket i Ronneby
DESCRIPTION:Vill du veta mer om din bakgrund och forska i ditt släktträd? Jaina Karlsson och Liselott Lundgren från Blekinge släktforskarförening hjälper dig och finns till hands på stadsbiblioteket i Ronneby. \nDrop-in.
URL:https://www.blekingesf.se/event/slaktforskarvardar-pa-stadsbiblioteket-i-ronneby-38/
LOCATION:Ronneby stadsbibliotek\, Kungsgatan 35\, Ronneby\, 37237
END:VEVENT
END:VCALENDAR